BEGIN:VCALENDAR
VERSION:2.0
PRODID:-//Vänsterpartiet Lund - ECPv6.15.17.1//NONSGML v1.0//EN
CALSCALE:GREGORIAN
METHOD:PUBLISH
X-ORIGINAL-URL:https://lund.vansterpartiet.se
X-WR-CALDESC:Händelser för Vänsterpartiet Lund
REFRESH-INTERVAL;VALUE=DURATION:PT1H
X-Robots-Tag:noindex
X-PUBLISHED-TTL:PT1H
BEGIN:VTIMEZONE
TZID:Europe/Stockholm
BEGIN:DAYLIGHT
TZOFFSETFROM:+0100
TZOFFSETTO:+0200
TZNAME:CEST
DTSTART:20240331T010000
END:DAYLIGHT
BEGIN:STANDARD
TZOFFSETFROM:+0200
TZOFFSETTO:+0100
TZNAME:CET
DTSTART:20241027T010000
END:STANDARD
BEGIN:DAYLIGHT
TZOFFSETFROM:+0100
TZOFFSETTO:+0200
TZNAME:CEST
DTSTART:20250330T010000
END:DAYLIGHT
BEGIN:STANDARD
TZOFFSETFROM:+0200
TZOFFSETTO:+0100
TZNAME:CET
DTSTART:20251026T010000
END:STANDARD
BEGIN:DAYLIGHT
TZOFFSETFROM:+0100
TZOFFSETTO:+0200
TZNAME:CEST
DTSTART:20260329T010000
END:DAYLIGHT
BEGIN:STANDARD
TZOFFSETFROM:+0200
TZOFFSETTO:+0100
TZNAME:CET
DTSTART:20261025T010000
END:STANDARD
END:VTIMEZONE
BEGIN:VEVENT
DTSTART;TZID=Europe/Stockholm:20250302T100000
DTEND;TZID=Europe/Stockholm:20250302T170000
DTSTAMP:20260419T230545
CREATED:20241219T071806Z
LAST-MODIFIED:20250120T141759Z
UID:1527-1740909600-1740934800@lund.vansterpartiet.se
SUMMARY:Årsmöte med lundavänstern
DESCRIPTION:Söndag den 2 mars 2025 är det dags för årsmöte med Vänsterpartiet Lund. På årsmötet beslutar vi om en ny verksamhetsplan för kommande år och vi väljer en ny styrelse\, revision och valberedning. Dessutom finns möjlighet för alla medlemmar att lämna in motioner om partiföreningens arbete kommande år. \nVill du nominera till styrelse eller revision? Gör det redan nu! Mejla valberedningen@lundavanstern.se med dina förslag. Observera att de personer du föreslår ska vara tillfrågade och ha tackat ja till nomineringen. \nVill du nominera någon att sitta i partiföreningens valberedning? I så fall ska du skicka din nominering till styrelsen@lundavanstern.se \nI januari återkommer vi med en formell kallelse till årsmötet som innehåller dagordning och förslag till verksamhetsplan för 2025 och strategisk plan för 2025-2030. Du får också mer detaljerad information om tidplanen och deadlines för nomineringar och motioner samt information om anmälan för lunch och möjligheten till barnpassning under årsmötet. \nHandlingar till årsmötet publiceras här. \nVi ser fram emot att träffas på årsmötet!
URL:https://lund.vansterpartiet.se/event/arsmote-med-lundavanstern/
LOCATION:Järnåkraskolan\, Mellanvångsvägen 1\, Lund\, 22355
CATEGORIES:Årsmöte
ATTACH;FMTTYPE=image/jpeg:https://lund.vansterpartiet.se/files/2024/03/Nejlikor-LITEN.jpg
ORGANIZER;CN="V%C3%A4nsterpartiet Lund":MAILTO:info@lundavanstern.se
END:VEVENT
END:VCALENDAR