BEGIN:VCALENDAR
VERSION:2.0
PRODID:-//Vänsterpartiet Lund - ECPv6.15.17.1//NONSGML v1.0//EN
CALSCALE:GREGORIAN
METHOD:PUBLISH
X-WR-CALNAME:Vänsterpartiet Lund
X-ORIGINAL-URL:https://lund.vansterpartiet.se
X-WR-CALDESC:Händelser för Vänsterpartiet Lund
REFRESH-INTERVAL;VALUE=DURATION:PT1H
X-Robots-Tag:noindex
X-PUBLISHED-TTL:PT1H
BEGIN:VTIMEZONE
TZID:Europe/Stockholm
BEGIN:DAYLIGHT
TZOFFSETFROM:+0100
TZOFFSETTO:+0200
TZNAME:CEST
DTSTART:20230326T010000
END:DAYLIGHT
BEGIN:STANDARD
TZOFFSETFROM:+0200
TZOFFSETTO:+0100
TZNAME:CET
DTSTART:20231029T010000
END:STANDARD
BEGIN:DAYLIGHT
TZOFFSETFROM:+0100
TZOFFSETTO:+0200
TZNAME:CEST
DTSTART:20240331T010000
END:DAYLIGHT
BEGIN:STANDARD
TZOFFSETFROM:+0200
TZOFFSETTO:+0100
TZNAME:CET
DTSTART:20241027T010000
END:STANDARD
BEGIN:DAYLIGHT
TZOFFSETFROM:+0100
TZOFFSETTO:+0200
TZNAME:CEST
DTSTART:20250330T010000
END:DAYLIGHT
BEGIN:STANDARD
TZOFFSETFROM:+0200
TZOFFSETTO:+0100
TZNAME:CET
DTSTART:20251026T010000
END:STANDARD
END:VTIMEZONE
BEGIN:VEVENT
DTSTART;TZID=Europe/Stockholm:20240506T190000
DTEND;TZID=Europe/Stockholm:20240506T210000
DTSTAMP:20260420T083104
CREATED:20240319T154942Z
LAST-MODIFIED:20240319T155810Z
UID:1267-1715022000-1715029200@lund.vansterpartiet.se
SUMMARY:Kommunpolitiska gruppen
DESCRIPTION:Varje måndag mellan kl 19-21 träffas kommunpolitiska gruppen (Kompol) på vår partilokal\, Södra station\, Tullgatan 14B. På kompol diskuterar vi aktuella frågor i kommunpolitiken och de ärenden som ska beslutas i nämnder och styrelser. \nAlla är välkomna till Kompol\, även du som inte har något kommunpolitiskt uppdrag. \nVill du få kallelser till Kompol till din mejl? Skriv till oss på info@lundavanstern.se så ordnar vi det!
URL:https://lund.vansterpartiet.se/event/kommunpolitiska-gruppen-18/
LOCATION:Partilokalen\, Södra station\, Tullgatan 14B\, Lund\, 22354\, Sverige
CATEGORIES:Kommunpolitiskt möte,Kompol
ORGANIZER;CN="V%C3%A4nsterpartiet Lund":MAILTO:info@lundavanstern.se
END:VEVENT
BEGIN:VEVENT
DTSTART;TZID=Europe/Stockholm:20240513T190000
DTEND;TZID=Europe/Stockholm:20240513T210000
DTSTAMP:20260420T083104
CREATED:20240422T090926Z
LAST-MODIFIED:20240422T090926Z
UID:1325-1715626800-1715634000@lund.vansterpartiet.se
SUMMARY:Kommunpolitiska gruppen
DESCRIPTION:Varje måndag mellan kl 19-21 träffas kommunpolitiska gruppen (Kompol) på vår partilokal\, Södra station\, Tullgatan 14B. På kompol diskuterar vi aktuella frågor i kommunpolitiken och de ärenden som ska beslutas i nämnder och styrelser. \nAlla är välkomna till Kompol\, även du som inte har något kommunpolitiskt uppdrag. \nVill du få kallelser till Kompol till din mejl? Skriv till oss på info@lundavanstern.se så ordnar vi det!
URL:https://lund.vansterpartiet.se/event/kommunpolitiska-gruppen-19/
LOCATION:Partilokalen\, Södra station\, Tullgatan 14B\, Lund\, 22354\, Sverige
CATEGORIES:Kommunpolitiskt möte,Kompol
ORGANIZER;CN="V%C3%A4nsterpartiet Lund":MAILTO:info@lundavanstern.se
END:VEVENT
BEGIN:VEVENT
DTSTART;TZID=Europe/Stockholm:20240520T190000
DTEND;TZID=Europe/Stockholm:20240520T210000
DTSTAMP:20260420T083104
CREATED:20240422T091015Z
LAST-MODIFIED:20240422T091015Z
UID:1327-1716231600-1716238800@lund.vansterpartiet.se
SUMMARY:Kommunpolitiska gruppen
DESCRIPTION:Varje måndag mellan kl 19-21 träffas kommunpolitiska gruppen (Kompol) på vår partilokal\, Södra station\, Tullgatan 14B. På kompol diskuterar vi aktuella frågor i kommunpolitiken och de ärenden som ska beslutas i nämnder och styrelser. \nAlla är välkomna till Kompol\, även du som inte har något kommunpolitiskt uppdrag. \nVill du få kallelser till Kompol till din mejl? Skriv till oss på info@lundavanstern.se så ordnar vi det!
URL:https://lund.vansterpartiet.se/event/kommunpolitiska-gruppen-20/
LOCATION:Partilokalen\, Södra station\, Tullgatan 14B\, Lund\, 22354\, Sverige
CATEGORIES:Kommunpolitiskt möte,Kompol
ORGANIZER;CN="V%C3%A4nsterpartiet Lund":MAILTO:info@lundavanstern.se
END:VEVENT
BEGIN:VEVENT
DTSTART;TZID=Europe/Stockholm:20240527T190000
DTEND;TZID=Europe/Stockholm:20240527T210000
DTSTAMP:20260420T083104
CREATED:20240422T091050Z
LAST-MODIFIED:20240422T091050Z
UID:1329-1716836400-1716843600@lund.vansterpartiet.se
SUMMARY:Kommunpolitiska gruppen
DESCRIPTION:Varje måndag mellan kl 19-21 träffas kommunpolitiska gruppen (Kompol) på vår partilokal\, Södra station\, Tullgatan 14B. På kompol diskuterar vi aktuella frågor i kommunpolitiken och de ärenden som ska beslutas i nämnder och styrelser. \nAlla är välkomna till Kompol\, även du som inte har något kommunpolitiskt uppdrag. \nVill du få kallelser till Kompol till din mejl? Skriv till oss på info@lundavanstern.se så ordnar vi det!
URL:https://lund.vansterpartiet.se/event/kommunpolitiska-gruppen-21/
LOCATION:Partilokalen\, Södra station\, Tullgatan 14B\, Lund\, 22354\, Sverige
CATEGORIES:Kommunpolitiskt möte,Kompol
ORGANIZER;CN="V%C3%A4nsterpartiet Lund":MAILTO:info@lundavanstern.se
END:VEVENT
END:VCALENDAR