BEGIN:VCALENDAR
VERSION:2.0
PRODID:-//Vänsterpartiet Lund - ECPv6.15.17.1//NONSGML v1.0//EN
CALSCALE:GREGORIAN
METHOD:PUBLISH
X-ORIGINAL-URL:https://lund.vansterpartiet.se
X-WR-CALDESC:Händelser för Vänsterpartiet Lund
REFRESH-INTERVAL;VALUE=DURATION:PT1H
X-Robots-Tag:noindex
X-PUBLISHED-TTL:PT1H
BEGIN:VTIMEZONE
TZID:Europe/Stockholm
BEGIN:DAYLIGHT
TZOFFSETFROM:+0100
TZOFFSETTO:+0200
TZNAME:CEST
DTSTART:20230326T010000
END:DAYLIGHT
BEGIN:STANDARD
TZOFFSETFROM:+0200
TZOFFSETTO:+0100
TZNAME:CET
DTSTART:20231029T010000
END:STANDARD
BEGIN:DAYLIGHT
TZOFFSETFROM:+0100
TZOFFSETTO:+0200
TZNAME:CEST
DTSTART:20240331T010000
END:DAYLIGHT
BEGIN:STANDARD
TZOFFSETFROM:+0200
TZOFFSETTO:+0100
TZNAME:CET
DTSTART:20241027T010000
END:STANDARD
BEGIN:DAYLIGHT
TZOFFSETFROM:+0100
TZOFFSETTO:+0200
TZNAME:CEST
DTSTART:20250330T010000
END:DAYLIGHT
BEGIN:STANDARD
TZOFFSETFROM:+0200
TZOFFSETTO:+0100
TZNAME:CET
DTSTART:20251026T010000
END:STANDARD
END:VTIMEZONE
BEGIN:VEVENT
DTSTART;TZID=Europe/Stockholm:20240902T190000
DTEND;TZID=Europe/Stockholm:20240902T210000
DTSTAMP:20260420T014758
CREATED:20240813T073702Z
LAST-MODIFIED:20240813T073702Z
UID:1353-1725303600-1725310800@lund.vansterpartiet.se
SUMMARY:Kommunpolitiska gruppen
DESCRIPTION:Varje måndag mellan kl 19-21 träffas kommunpolitiska gruppen (Kompol) på vår partilokal\, Södra station\, Tullgatan 14B. På kompol diskuterar vi aktuella frågor i kommunpolitiken och de ärenden som ska beslutas i nämnder och styrelser. \nAlla är välkomna till Kompol\, även du som inte har något kommunpolitiskt uppdrag. \nVill du få kallelser till Kompol till din mejl? Skriv till oss på info@lundavanstern.se så ordnar vi det!
URL:https://lund.vansterpartiet.se/event/kommunpolitiska-gruppen-25/
LOCATION:Partilokalen\, Södra station\, Tullgatan 14B\, Lund\, 22354\, Sverige
CATEGORIES:Kommunpolitiskt möte,Kompol
ORGANIZER;CN="V%C3%A4nsterpartiet Lund":MAILTO:info@lundavanstern.se
END:VEVENT
BEGIN:VEVENT
DTSTART;TZID=Europe/Stockholm:20240909T190000
DTEND;TZID=Europe/Stockholm:20240909T210000
DTSTAMP:20260420T014758
CREATED:20240813T073952Z
LAST-MODIFIED:20240813T073952Z
UID:1355-1725908400-1725915600@lund.vansterpartiet.se
SUMMARY:Kommunpolitiska gruppen
DESCRIPTION:Varje måndag mellan kl 19-21 träffas kommunpolitiska gruppen (Kompol) på vår partilokal\, Södra station\, Tullgatan 14B. På kompol diskuterar vi aktuella frågor i kommunpolitiken och de ärenden som ska beslutas i nämnder och styrelser. \nAlla är välkomna till Kompol\, även du som inte har något kommunpolitiskt uppdrag. \nVill du få kallelser till Kompol till din mejl? Skriv till oss på info@lundavanstern.se så ordnar vi det!
URL:https://lund.vansterpartiet.se/event/kommunpolitiska-gruppen-26/
LOCATION:Partilokalen\, Södra station\, Tullgatan 14B\, Lund\, 22354\, Sverige
CATEGORIES:Kommunpolitiskt möte,Kompol
ORGANIZER;CN="V%C3%A4nsterpartiet Lund":MAILTO:info@lundavanstern.se
END:VEVENT
BEGIN:VEVENT
DTSTART;TZID=Europe/Stockholm:20240916T190000
DTEND;TZID=Europe/Stockholm:20240916T210000
DTSTAMP:20260420T014758
CREATED:20240813T074034Z
LAST-MODIFIED:20240813T074034Z
UID:1357-1726513200-1726520400@lund.vansterpartiet.se
SUMMARY:Kommunpolitiska gruppen
DESCRIPTION:Varje måndag mellan kl 19-21 träffas kommunpolitiska gruppen (Kompol) på vår partilokal\, Södra station\, Tullgatan 14B. På kompol diskuterar vi aktuella frågor i kommunpolitiken och de ärenden som ska beslutas i nämnder och styrelser. \nAlla är välkomna till Kompol\, även du som inte har något kommunpolitiskt uppdrag. \nVill du få kallelser till Kompol till din mejl? Skriv till oss på info@lundavanstern.se så ordnar vi det!
URL:https://lund.vansterpartiet.se/event/kommunpolitiska-gruppen-27/
LOCATION:Partilokalen\, Södra station\, Tullgatan 14B\, Lund\, 22354\, Sverige
CATEGORIES:Kommunpolitiskt möte,Kompol
ORGANIZER;CN="V%C3%A4nsterpartiet Lund":MAILTO:info@lundavanstern.se
END:VEVENT
BEGIN:VEVENT
DTSTART;TZID=Europe/Stockholm:20240923T190000
DTEND;TZID=Europe/Stockholm:20240923T210000
DTSTAMP:20260420T014758
CREATED:20240813T074141Z
LAST-MODIFIED:20240813T074141Z
UID:1359-1727118000-1727125200@lund.vansterpartiet.se
SUMMARY:Kommunpolitiska gruppen
DESCRIPTION:Varje måndag mellan kl 19-21 träffas kommunpolitiska gruppen (Kompol) på vår partilokal\, Södra station\, Tullgatan 14B. På kompol diskuterar vi aktuella frågor i kommunpolitiken och de ärenden som ska beslutas i nämnder och styrelser. \nAlla är välkomna till Kompol\, även du som inte har något kommunpolitiskt uppdrag. \nVill du få kallelser till Kompol till din mejl? Skriv till oss på info@lundavanstern.se så ordnar vi det!
URL:https://lund.vansterpartiet.se/event/kommunpolitiska-gruppen-28/
LOCATION:Partilokalen\, Södra station\, Tullgatan 14B\, Lund\, 22354\, Sverige
CATEGORIES:Kommunpolitiskt möte,Kompol
ORGANIZER;CN="V%C3%A4nsterpartiet Lund":MAILTO:info@lundavanstern.se
END:VEVENT
BEGIN:VEVENT
DTSTART;TZID=Europe/Stockholm:20240930T190000
DTEND;TZID=Europe/Stockholm:20240930T210000
DTSTAMP:20260420T014758
CREATED:20240813T074215Z
LAST-MODIFIED:20240813T074215Z
UID:1361-1727722800-1727730000@lund.vansterpartiet.se
SUMMARY:Kommunpolitiska gruppen
DESCRIPTION:Varje måndag mellan kl 19-21 träffas kommunpolitiska gruppen (Kompol) på vår partilokal\, Södra station\, Tullgatan 14B. På kompol diskuterar vi aktuella frågor i kommunpolitiken och de ärenden som ska beslutas i nämnder och styrelser. \nAlla är välkomna till Kompol\, även du som inte har något kommunpolitiskt uppdrag. \nVill du få kallelser till Kompol till din mejl? Skriv till oss på info@lundavanstern.se så ordnar vi det!
URL:https://lund.vansterpartiet.se/event/kommunpolitiska-gruppen-29/
LOCATION:Partilokalen\, Södra station\, Tullgatan 14B\, Lund\, 22354\, Sverige
CATEGORIES:Kommunpolitiskt möte,Kompol
ORGANIZER;CN="V%C3%A4nsterpartiet Lund":MAILTO:info@lundavanstern.se
END:VEVENT
END:VCALENDAR