BEGIN:VCALENDAR
VERSION:2.0
PRODID:-//Vänsterpartiet Lund - ECPv6.15.17.1//NONSGML v1.0//EN
CALSCALE:GREGORIAN
METHOD:PUBLISH
X-WR-CALNAME:Vänsterpartiet Lund
X-ORIGINAL-URL:https://lund.vansterpartiet.se
X-WR-CALDESC:Händelser för Vänsterpartiet Lund
REFRESH-INTERVAL;VALUE=DURATION:PT1H
X-Robots-Tag:noindex
X-PUBLISHED-TTL:PT1H
BEGIN:VTIMEZONE
TZID:Europe/Stockholm
BEGIN:DAYLIGHT
TZOFFSETFROM:+0100
TZOFFSETTO:+0200
TZNAME:CEST
DTSTART:20220327T010000
END:DAYLIGHT
BEGIN:STANDARD
TZOFFSETFROM:+0200
TZOFFSETTO:+0100
TZNAME:CET
DTSTART:20221030T010000
END:STANDARD
BEGIN:DAYLIGHT
TZOFFSETFROM:+0100
TZOFFSETTO:+0200
TZNAME:CEST
DTSTART:20230326T010000
END:DAYLIGHT
BEGIN:STANDARD
TZOFFSETFROM:+0200
TZOFFSETTO:+0100
TZNAME:CET
DTSTART:20231029T010000
END:STANDARD
BEGIN:DAYLIGHT
TZOFFSETFROM:+0100
TZOFFSETTO:+0200
TZNAME:CEST
DTSTART:20240331T010000
END:DAYLIGHT
BEGIN:STANDARD
TZOFFSETFROM:+0200
TZOFFSETTO:+0100
TZNAME:CET
DTSTART:20241027T010000
END:STANDARD
END:VTIMEZONE
BEGIN:VEVENT
DTSTART;TZID=Europe/Stockholm:20230313T190000
DTEND;TZID=Europe/Stockholm:20230313T210000
DTSTAMP:20260421T054029
CREATED:20230207T142912Z
LAST-MODIFIED:20230214T144303Z
UID:577-1678734000-1678741200@lund.vansterpartiet.se
SUMMARY:Kommunpolitiskt möte (Kompol)
DESCRIPTION:Varje måndag mellan kl 19-21 träffas kommunpolitiska gruppen (Kompol) på ABF\, Kiliansgatan 9\, 3 våningen. På kompol diskuterar vi aktuella frågor i kommunpolitiken och de ärenden som ska beslutas i nämnder och styrelser. \nDenna veckan gästas vi av Visit Lund. Lunds kommuns helägda destinationsbolag med ansvar för turism och evenemang. \nAlla är välkomna till Kompol\, även du som inte har något kommunpolitiskt uppdrag. \nVill du få kallelser till Kompol till din mejl? Skriv till oss på info@lundavanstern.se så ordnar vi det!
URL:https://lund.vansterpartiet.se/event/kompol-6/
LOCATION:ABF\, Kiliansgatan 9\, Lund\, Sverige
CATEGORIES:Kommunpolitiskt möte,Kompol
ORGANIZER;CN="V%C3%A4nsterpartiet Lund":MAILTO:info@lundavanstern.se
END:VEVENT
END:VCALENDAR