BEGIN:VCALENDAR
VERSION:2.0
PRODID:-//Vänsterpartiet Lund - ECPv6.15.17.1//NONSGML v1.0//EN
CALSCALE:GREGORIAN
METHOD:PUBLISH
X-ORIGINAL-URL:https://lund.vansterpartiet.se
X-WR-CALDESC:Händelser för Vänsterpartiet Lund
REFRESH-INTERVAL;VALUE=DURATION:PT1H
X-Robots-Tag:noindex
X-PUBLISHED-TTL:PT1H
BEGIN:VTIMEZONE
TZID:Europe/Stockholm
BEGIN:DAYLIGHT
TZOFFSETFROM:+0100
TZOFFSETTO:+0200
TZNAME:CEST
DTSTART:20220327T010000
END:DAYLIGHT
BEGIN:STANDARD
TZOFFSETFROM:+0200
TZOFFSETTO:+0100
TZNAME:CET
DTSTART:20221030T010000
END:STANDARD
BEGIN:DAYLIGHT
TZOFFSETFROM:+0100
TZOFFSETTO:+0200
TZNAME:CEST
DTSTART:20230326T010000
END:DAYLIGHT
BEGIN:STANDARD
TZOFFSETFROM:+0200
TZOFFSETTO:+0100
TZNAME:CET
DTSTART:20231029T010000
END:STANDARD
BEGIN:DAYLIGHT
TZOFFSETFROM:+0100
TZOFFSETTO:+0200
TZNAME:CEST
DTSTART:20240331T010000
END:DAYLIGHT
BEGIN:STANDARD
TZOFFSETFROM:+0200
TZOFFSETTO:+0100
TZNAME:CET
DTSTART:20241027T010000
END:STANDARD
END:VTIMEZONE
BEGIN:VEVENT
DTSTART;TZID=Europe/Stockholm:20231021T130000
DTEND;TZID=Europe/Stockholm:20231021T140000
DTSTAMP:20260421T023735
CREATED:20231017T092058Z
LAST-MODIFIED:20231017T092058Z
UID:1086-1697893200-1697896800@lund.vansterpartiet.se
SUMMARY:Manifestation för fred i Palestina
DESCRIPTION:Den israeliska ockupationen av Västbanken\, Gaza och Östra Jerusalem är folkrättsvidrig och måste upphöra.\nFolkrättens regelverk ska respekteras av samtliga parter. Det betyder förutom att Israels ockupation som sådan saknar legitimitet också ett konsekvent fördömande av alla attacker mot civila\, och brott mot de mänskliga rättigheterna. Detta oavsett vilken part som begår dem.\nManifestation av Vänsterpartiet Lund\, med stöd av Fi Lund\, Ung Vänster och Palestinagruppen Lund. Kom du också!!
URL:https://lund.vansterpartiet.se/event/manifestation-for-fred-i-palestina/
LOCATION:Stortorget\, Stortorget 7\, Lund\, 22223
CATEGORIES:Manifestation
ATTACH;FMTTYPE=image/jpeg:https://lund.vansterpartiet.se/files/2023/10/391748812_716029593884757_7904137257069799044_n.jpg
END:VEVENT
END:VCALENDAR