BEGIN:VCALENDAR
VERSION:2.0
PRODID:-//Vänsterpartiet Lund - ECPv6.15.17.1//NONSGML v1.0//EN
CALSCALE:GREGORIAN
METHOD:PUBLISH
X-ORIGINAL-URL:https://lund.vansterpartiet.se
X-WR-CALDESC:Händelser för Vänsterpartiet Lund
REFRESH-INTERVAL;VALUE=DURATION:PT1H
X-Robots-Tag:noindex
X-PUBLISHED-TTL:PT1H
BEGIN:VTIMEZONE
TZID:Europe/Stockholm
BEGIN:DAYLIGHT
TZOFFSETFROM:+0100
TZOFFSETTO:+0200
TZNAME:CEST
DTSTART:20240331T010000
END:DAYLIGHT
BEGIN:STANDARD
TZOFFSETFROM:+0200
TZOFFSETTO:+0100
TZNAME:CET
DTSTART:20241027T010000
END:STANDARD
BEGIN:DAYLIGHT
TZOFFSETFROM:+0100
TZOFFSETTO:+0200
TZNAME:CEST
DTSTART:20250330T010000
END:DAYLIGHT
BEGIN:STANDARD
TZOFFSETFROM:+0200
TZOFFSETTO:+0100
TZNAME:CET
DTSTART:20251026T010000
END:STANDARD
BEGIN:DAYLIGHT
TZOFFSETFROM:+0100
TZOFFSETTO:+0200
TZNAME:CEST
DTSTART:20260329T010000
END:DAYLIGHT
BEGIN:STANDARD
TZOFFSETFROM:+0200
TZOFFSETTO:+0100
TZNAME:CET
DTSTART:20261025T010000
END:STANDARD
END:VTIMEZONE
BEGIN:VEVENT
DTSTART;TZID=Europe/Stockholm:20250310T183000
DTEND;TZID=Europe/Stockholm:20250310T190000
DTSTAMP:20260419T194515
CREATED:20250303T144806Z
LAST-MODIFIED:20250303T144806Z
UID:1658-1741631400-1741633200@lund.vansterpartiet.se
SUMMARY:Extra medlemsmöte för val av ersättare i Arbetsmarknads- och socialnämnden
DESCRIPTION:Val av ny ersättare för Vänsterpartiet i Arbetsmarknads- och socialnämnden sker på extrainsatt medlemsmöte måndagen den 10 mars kl 18:30 i vår partilokal\, Södra Station\, Tullgatan 14B. \nValberedningen tar emot nomineringar till och med fredag 7 mars. Vill du nominera dig själv eller någon annan? Mejla till valberedningen@lundavanstern.se. Kom ihåg att den du nominerar ska vara tillfrågad.
URL:https://lund.vansterpartiet.se/event/extra-medlemsmote-for-val-av-ersattare-i-arbetsmarknads-och-socialnamnden/
LOCATION:Partilokalen\, Södra station\, Tullgatan 14B\, Lund\, 22354\, Sverige
CATEGORIES:Medlemsmöte
ORGANIZER;CN="V%C3%A4nsterpartiet Lund":MAILTO:info@lundavanstern.se
END:VEVENT
END:VCALENDAR