BEGIN:VCALENDAR
VERSION:2.0
PRODID:-//Vänsterpartiet Lund - ECPv6.15.17.1//NONSGML v1.0//EN
CALSCALE:GREGORIAN
METHOD:PUBLISH
X-WR-CALNAME:Vänsterpartiet Lund
X-ORIGINAL-URL:https://lund.vansterpartiet.se
X-WR-CALDESC:Händelser för Vänsterpartiet Lund
REFRESH-INTERVAL;VALUE=DURATION:PT1H
X-Robots-Tag:noindex
X-PUBLISHED-TTL:PT1H
BEGIN:VTIMEZONE
TZID:Europe/Stockholm
BEGIN:DAYLIGHT
TZOFFSETFROM:+0100
TZOFFSETTO:+0200
TZNAME:CEST
DTSTART:20230326T010000
END:DAYLIGHT
BEGIN:STANDARD
TZOFFSETFROM:+0200
TZOFFSETTO:+0100
TZNAME:CET
DTSTART:20231029T010000
END:STANDARD
BEGIN:DAYLIGHT
TZOFFSETFROM:+0100
TZOFFSETTO:+0200
TZNAME:CEST
DTSTART:20240331T010000
END:DAYLIGHT
BEGIN:STANDARD
TZOFFSETFROM:+0200
TZOFFSETTO:+0100
TZNAME:CET
DTSTART:20241027T010000
END:STANDARD
BEGIN:DAYLIGHT
TZOFFSETFROM:+0100
TZOFFSETTO:+0200
TZNAME:CEST
DTSTART:20250330T010000
END:DAYLIGHT
BEGIN:STANDARD
TZOFFSETFROM:+0200
TZOFFSETTO:+0100
TZNAME:CET
DTSTART:20251026T010000
END:STANDARD
END:VTIMEZONE
BEGIN:VEVENT
DTSTART;TZID=Europe/Stockholm:20240929T100000
DTEND;TZID=Europe/Stockholm:20240929T140000
DTSTAMP:20260420T074144
CREATED:20240829T120856Z
LAST-MODIFIED:20240910T133018Z
UID:1380-1727604000-1727618400@lund.vansterpartiet.se
SUMMARY:Medlemsmöte: Lunds kommuns översiktsplan 2025
DESCRIPTION:Välkomna till ett medlemsmöte där vi diskuterar Lunds kommuns nya översiktsplan\, ÖP 2025. \nI översiktsplanen anges vilka områden som är aktuella för utbyggnad\, nu och i framtiden\, men också vilken inriktning Lunds kommun ska ha för utbyggnad och förtätning. Vad ska vi bygga och hur ska vi planera? \nVi kommer inleda med att gå igenom förslaget till översiktsplan och därefter diskutera och ta ställning till de olika delarna. Vi bjuder på lunch och ser därför gärna att du anmäler dig via denna länk. \nDu som vill läsa på inför mötet hittar förslaget till översiktsplan på Lunds kommuns hemsida.
URL:https://lund.vansterpartiet.se/event/medlemsmote-om-oversiktsplan-2025/
LOCATION:Partilokalen\, Södra station\, Tullgatan 14B\, Lund\, 22354\, Sverige
CATEGORIES:Medlemsmöte
ORGANIZER;CN="V%C3%A4nsterpartiet Lund":MAILTO:info@lundavanstern.se
END:VEVENT
END:VCALENDAR