BEGIN:VCALENDAR
VERSION:2.0
PRODID:-//Vänsterpartiet Lund - ECPv6.15.17.1//NONSGML v1.0//EN
CALSCALE:GREGORIAN
METHOD:PUBLISH
X-WR-CALNAME:Vänsterpartiet Lund
X-ORIGINAL-URL:https://lund.vansterpartiet.se
X-WR-CALDESC:Händelser för Vänsterpartiet Lund
REFRESH-INTERVAL;VALUE=DURATION:PT1H
X-Robots-Tag:noindex
X-PUBLISHED-TTL:PT1H
BEGIN:VTIMEZONE
TZID:Europe/Stockholm
BEGIN:DAYLIGHT
TZOFFSETFROM:+0100
TZOFFSETTO:+0200
TZNAME:CEST
DTSTART:20220327T010000
END:DAYLIGHT
BEGIN:STANDARD
TZOFFSETFROM:+0200
TZOFFSETTO:+0100
TZNAME:CET
DTSTART:20221030T010000
END:STANDARD
BEGIN:DAYLIGHT
TZOFFSETFROM:+0100
TZOFFSETTO:+0200
TZNAME:CEST
DTSTART:20230326T010000
END:DAYLIGHT
BEGIN:STANDARD
TZOFFSETFROM:+0200
TZOFFSETTO:+0100
TZNAME:CET
DTSTART:20231029T010000
END:STANDARD
BEGIN:DAYLIGHT
TZOFFSETFROM:+0100
TZOFFSETTO:+0200
TZNAME:CEST
DTSTART:20240331T010000
END:DAYLIGHT
BEGIN:STANDARD
TZOFFSETFROM:+0200
TZOFFSETTO:+0100
TZNAME:CET
DTSTART:20241027T010000
END:STANDARD
END:VTIMEZONE
BEGIN:VEVENT
DTSTART;TZID=Europe/Stockholm:20231101T190000
DTEND;TZID=Europe/Stockholm:20231101T210000
DTSTAMP:20260420T184705
CREATED:20231001T050036Z
LAST-MODIFIED:20231030T094013Z
UID:1047-1698865200-1698872400@lund.vansterpartiet.se
SUMMARY:Onsdagsdiskussion: Varför den organiserade brottsligheten ökar i Sverige och vad som behöver göras för att stoppa utvecklingen.
DESCRIPTION:Tema: Varför den organiserade brottsligheten ökar i Sverige och vad som behöver göras för att stoppa utvecklingen. \nVarje onsdag mellan kl 19-21 bjuder Vänsterpartiet Lund in till diskussionsmöte på Lilla caféet\, Lilla tvärgatan 2. Vi träffas och diskuterar politik\, ofta med en inbjuden gäst som ger en presentation av ett visst tema. \nVill du leda ett samtal eller en diskussion? Hör av dig till oss! styrelsen@lundavanstern.se
URL:https://lund.vansterpartiet.se/event/onsdagsdiskussion-kubas-ekonomiska-situation/
LOCATION:Lilla caféet\, Lilla Tvärgatan 2\, Lund\, 22353\, Sverige
CATEGORIES:onsdagsdiskussion,Onsdagsmöte,Öppet evenemang
ATTACH;FMTTYPE=image/jpeg:https://lund.vansterpartiet.se/files/2023/10/8724803961_dd156b08a1_h.jpg
ORGANIZER;CN="V%C3%A4nsterpartiet Lund":MAILTO:info@lundavanstern.se
END:VEVENT
BEGIN:VEVENT
DTSTART;TZID=Europe/Stockholm:20231108T190000
DTEND;TZID=Europe/Stockholm:20231108T210000
DTSTAMP:20260420T184705
CREATED:20230820T131944Z
LAST-MODIFIED:20231009T083828Z
UID:958-1699470000-1699477200@lund.vansterpartiet.se
SUMMARY:Onsdagsdiskussion: Klimatkris\, civil olydnad och demokrati.
DESCRIPTION:Psykologen Marit Fontana Oscarsson inleder\, berättar om sitt engagemang i XR (Extinction Rebellion) och Rebellmammorna samt bjuder in till samtal om låsningar i nuvarande politiska system som gör det omöjligt att effektivt hantera katastrofen vi befinner oss i. \nVarje onsdag mellan kl 19-21 bjuder Vänsterpartiet Lund in till diskussionsmöte på Lilla caféet\, Lilla tvärgatan 2. Vi träffas och diskuterar politik\, ofta med en inbjuden gäst som ger en presentation av ett visst tema. \nVill du leda ett samtal eller en diskussion? Hör av dig till oss! styrelsen@lundavanstern.se
URL:https://lund.vansterpartiet.se/event/onsdagsdiskussion-20/
LOCATION:Lilla caféet\, Lilla Tvärgatan 2\, Lund\, 22353\, Sverige
CATEGORIES:onsdagsdiskussion,Onsdagsmöte
ATTACH;FMTTYPE=image/png:https://lund.vansterpartiet.se/files/2023/08/Rebellmammor.png
ORGANIZER;CN="V%C3%A4nsterpartiet Lund":MAILTO:info@lundavanstern.se
END:VEVENT
BEGIN:VEVENT
DTSTART;TZID=Europe/Stockholm:20231115T190000
DTEND;TZID=Europe/Stockholm:20231115T210000
DTSTAMP:20260420T184705
CREATED:20230820T132130Z
LAST-MODIFIED:20231115T133005Z
UID:962-1700074800-1700082000@lund.vansterpartiet.se
SUMMARY:Onsdagsdiskussion: Nytt partiprogram (Inställd pga sjukdom)
DESCRIPTION:OBS! Inställd pga sjukdom\n\n\n\n\n\n\nMaram Vikard\, ordförande för Vänsterpartiet Lund\, leder en diskussion om det nya partiprogrammet. \nVarje onsdag mellan kl 19-21 bjuder Vänsterpartiet Lund in till diskussionsmöte på Lilla caféet\, Lilla tvärgatan 2. Vi träffas och diskuterar politik\, ofta med en inbjuden gäst som ger en presentation av ett visst tema. \nVill du leda ett samtal eller en diskussion? Hör av dig till oss! styrelsen@lundavanstern.se
URL:https://lund.vansterpartiet.se/event/onsdagsdiskussion-22/
LOCATION:Lilla caféet\, Lilla Tvärgatan 2\, Lund\, 22353\, Sverige
CATEGORIES:onsdagsdiskussion,Onsdagsmöte
ATTACH;FMTTYPE=image/png:https://lund.vansterpartiet.se/files/2023/08/Programdiskussion.png
ORGANIZER;CN="V%C3%A4nsterpartiet Lund":MAILTO:info@lundavanstern.se
END:VEVENT
BEGIN:VEVENT
DTSTART;TZID=Europe/Stockholm:20231122T190000
DTEND;TZID=Europe/Stockholm:20231122T210000
DTSTAMP:20260420T184705
CREATED:20230820T132041Z
LAST-MODIFIED:20231114T124629Z
UID:960-1700679600-1700686800@lund.vansterpartiet.se
SUMMARY:Onsdagsdiskussion: Facklig vänster - stärka fackets roll i Vänsterpartiet
DESCRIPTION:Tema: Facklig vänster – stärka fackets roll i Vänsterpartiet \nVarje onsdag mellan kl 19-21 bjuder Vänsterpartiet Lund in till diskussionsmöte på Lilla caféet\, Lilla tvärgatan 2. Vi träffas och diskuterar politik\, ofta med en inbjuden gäst som ger en presentation av ett visst tema. \nVill du leda ett samtal eller en diskussion? Hör av dig till oss! styrelsen@lundavanstern.se
URL:https://lund.vansterpartiet.se/event/onsdagsdiskussion-21/
LOCATION:Lilla caféet\, Lilla Tvärgatan 2\, Lund\, 22353\, Sverige
CATEGORIES:onsdagsdiskussion,Onsdagsmöte
ATTACH;FMTTYPE=image/jpeg:https://lund.vansterpartiet.se/files/2023/08/labor-union-conference-with-women-and-men-in-Sweden-in-2020.jpeg
ORGANIZER;CN="V%C3%A4nsterpartiet Lund":MAILTO:info@lundavanstern.se
END:VEVENT
BEGIN:VEVENT
DTSTART;TZID=Europe/Stockholm:20231129T190000
DTEND;TZID=Europe/Stockholm:20231129T210000
DTSTAMP:20260420T184705
CREATED:20230820T132217Z
LAST-MODIFIED:20231030T101004Z
UID:964-1701284400-1701291600@lund.vansterpartiet.se
SUMMARY:Onsdagsdiskussion: Palestinas framtid. Hur ser den ut?
DESCRIPTION:Tema: Palestinas framtid. Hur ser den ut? \nVarje onsdag mellan kl 19-21 bjuder Vänsterpartiet Lund in till diskussionsmöte på Lilla caféet\, Lilla tvärgatan 2. Vi träffas och diskuterar politik\, ofta med en inbjuden gäst som ger en presentation av ett visst tema. \nVill du leda ett samtal eller en diskussion? Hör av dig till oss! styrelsen@lundavanstern.se
URL:https://lund.vansterpartiet.se/event/onsdagsdiskussion-23/
LOCATION:Lilla caféet\, Lilla Tvärgatan 2\, Lund\, 22353\, Sverige
CATEGORIES:onsdagsdiskussion,Onsdagsmöte,Politiskt diskussionsmöte
ATTACH;FMTTYPE=image/jpeg:https://lund.vansterpartiet.se/files/2023/08/palestine.jpeg
ORGANIZER;CN="V%C3%A4nsterpartiet Lund":MAILTO:info@lundavanstern.se
END:VEVENT
END:VCALENDAR