BEGIN:VCALENDAR
VERSION:2.0
PRODID:-//Vänsterpartiet Lund - ECPv6.15.17.1//NONSGML v1.0//EN
CALSCALE:GREGORIAN
METHOD:PUBLISH
X-ORIGINAL-URL:https://lund.vansterpartiet.se
X-WR-CALDESC:Händelser för Vänsterpartiet Lund
REFRESH-INTERVAL;VALUE=DURATION:PT1H
X-Robots-Tag:noindex
X-PUBLISHED-TTL:PT1H
BEGIN:VTIMEZONE
TZID:Europe/Stockholm
BEGIN:DAYLIGHT
TZOFFSETFROM:+0100
TZOFFSETTO:+0200
TZNAME:CEST
DTSTART:20240331T010000
END:DAYLIGHT
BEGIN:STANDARD
TZOFFSETFROM:+0200
TZOFFSETTO:+0100
TZNAME:CET
DTSTART:20241027T010000
END:STANDARD
BEGIN:DAYLIGHT
TZOFFSETFROM:+0100
TZOFFSETTO:+0200
TZNAME:CEST
DTSTART:20250330T010000
END:DAYLIGHT
BEGIN:STANDARD
TZOFFSETFROM:+0200
TZOFFSETTO:+0100
TZNAME:CET
DTSTART:20251026T010000
END:STANDARD
BEGIN:DAYLIGHT
TZOFFSETFROM:+0100
TZOFFSETTO:+0200
TZNAME:CEST
DTSTART:20260329T010000
END:DAYLIGHT
BEGIN:STANDARD
TZOFFSETFROM:+0200
TZOFFSETTO:+0100
TZNAME:CET
DTSTART:20261025T010000
END:STANDARD
END:VTIMEZONE
BEGIN:VEVENT
DTSTART;TZID=Europe/Stockholm:20250205T190000
DTEND;TZID=Europe/Stockholm:20250205T210000
DTSTAMP:20260419T195208
CREATED:20250114T080719Z
LAST-MODIFIED:20250123T124515Z
UID:1540-1738782000-1738789200@lund.vansterpartiet.se
SUMMARY:Onsdagsdiskussion
DESCRIPTION:Obs! Detta tillfälle hålls på engelska. Kalim Ul Masih will introduce ”psychological safety\, as based on the pioneering work of Amy Edmondson” \nVarje onsdag mellan kl 19-21 bjuder Vänsterpartiet Lund in till diskussionsmöte i vår partilokal\, Södra station\, Tullgatan 14B. Vi träffas och diskuterar politik\, ofta med en inbjuden gäst som ger en presentation av ett visst tema.
URL:https://lund.vansterpartiet.se/event/onsdagsdiskussion-53/
LOCATION:Partilokalen\, Södra station\, Tullgatan 14B\, Lund\, 22354\, Sverige
CATEGORIES:onsdagsdiskussion,Onsdagsmöte
ORGANIZER;CN="V%C3%A4nsterpartiet Lund":MAILTO:info@lundavanstern.se
END:VEVENT
BEGIN:VEVENT
DTSTART;TZID=Europe/Stockholm:20250212T190000
DTEND;TZID=Europe/Stockholm:20250212T210000
DTSTAMP:20260419T195208
CREATED:20250114T080758Z
LAST-MODIFIED:20250207T085151Z
UID:1542-1739386800-1739394000@lund.vansterpartiet.se
SUMMARY:Onsdagsdiskussion
DESCRIPTION:Tema: Vad är alternativet till vår konstitutionella monarki? Om Sveriges statschef\, historia\, nutid och framtid. Inleder gör Karsten Olsen från Republikanska föreningen i Skåne. \nVarje onsdag mellan kl 19-21 bjuder Vänsterpartiet Lund in till diskussionsmöte i vår partilokal\, Södra station\, Tullgatan 14B. Vi träffas och diskuterar politik\, ofta med en inbjuden gäst som ger en presentation av ett visst tema.
URL:https://lund.vansterpartiet.se/event/onsdagsdiskussion-54/
LOCATION:Partilokalen\, Södra station\, Tullgatan 14B\, Lund\, 22354\, Sverige
CATEGORIES:onsdagsdiskussion,Onsdagsmöte
ATTACH;FMTTYPE=image/jpeg:https://lund.vansterpartiet.se/files/2025/01/Republikanska-foreningen_logga.jpg
ORGANIZER;CN="V%C3%A4nsterpartiet Lund":MAILTO:info@lundavanstern.se
END:VEVENT
BEGIN:VEVENT
DTSTART;TZID=Europe/Stockholm:20250219T190000
DTEND;TZID=Europe/Stockholm:20250219T210000
DTSTAMP:20260419T195208
CREATED:20250128T103220Z
LAST-MODIFIED:20250207T085355Z
UID:1577-1739991600-1739998800@lund.vansterpartiet.se
SUMMARY:Onsdagsdiskussion
DESCRIPTION:Preliminärt tema: Vad innebär det att vara vänster i politiken? \nVarje onsdag mellan kl 19-21 bjuder Vänsterpartiet Lund in till diskussionsmöte i vår partilokal\, Södra station\, Tullgatan 14B. Vi träffas och diskuterar politik\, ofta med en inbjuden gäst som ger en presentation av ett visst tema. \nVill du få inbjudan till onsdagsdiskussionerna till din mejl? Skriv till oss på info@lundavanstern.se så ordnar vi det!
URL:https://lund.vansterpartiet.se/event/onsdagsdiskussion-56/
LOCATION:Partilokalen\, Södra station\, Tullgatan 14B\, Lund\, 22354\, Sverige
CATEGORIES:onsdagsdiskussion,Onsdagsmöte
ATTACH;FMTTYPE=image/jpeg:https://lund.vansterpartiet.se/files/2025/01/Flaggor-medium.jpg
ORGANIZER;CN="V%C3%A4nsterpartiet Lund":MAILTO:info@lundavanstern.se
END:VEVENT
BEGIN:VEVENT
DTSTART;TZID=Europe/Stockholm:20250226T190000
DTEND;TZID=Europe/Stockholm:20250226T210000
DTSTAMP:20260419T195208
CREATED:20250128T103347Z
LAST-MODIFIED:20250217T151657Z
UID:1580-1740596400-1740603600@lund.vansterpartiet.se
SUMMARY:Onsdagsdiskussion
DESCRIPTION:Stefan Olsson inleder på temat ”En sockrad bild av kapitalism”. \nVarje onsdag mellan kl 19-21 bjuder Vänsterpartiet Lund in till diskussionsmöte i vår partilokal\, Södra station\, Tullgatan 14B. Vi träffas och diskuterar politik\, ofta med en inbjuden gäst som ger en presentation av ett visst tema. \nVill du få inbjudan till onsdagsdiskussionerna till din mejl? Skriv till oss på info@lundavanstern.se så ordnar vi det!
URL:https://lund.vansterpartiet.se/event/onsdagsdiskussion-57/
LOCATION:Partilokalen\, Södra station\, Tullgatan 14B\, Lund\, 22354\, Sverige
CATEGORIES:onsdagsdiskussion,Onsdagsmöte
ORGANIZER;CN="V%C3%A4nsterpartiet Lund":MAILTO:info@lundavanstern.se
END:VEVENT
END:VCALENDAR