BEGIN:VCALENDAR
VERSION:2.0
PRODID:-//Vänsterpartiet Lund - ECPv6.15.17.1//NONSGML v1.0//EN
CALSCALE:GREGORIAN
METHOD:PUBLISH
X-WR-CALNAME:Vänsterpartiet Lund
X-ORIGINAL-URL:https://lund.vansterpartiet.se
X-WR-CALDESC:Händelser för Vänsterpartiet Lund
REFRESH-INTERVAL;VALUE=DURATION:PT1H
X-Robots-Tag:noindex
X-PUBLISHED-TTL:PT1H
BEGIN:VTIMEZONE
TZID:Europe/Stockholm
BEGIN:DAYLIGHT
TZOFFSETFROM:+0100
TZOFFSETTO:+0200
TZNAME:CEST
DTSTART:20220327T010000
END:DAYLIGHT
BEGIN:STANDARD
TZOFFSETFROM:+0200
TZOFFSETTO:+0100
TZNAME:CET
DTSTART:20221030T010000
END:STANDARD
BEGIN:DAYLIGHT
TZOFFSETFROM:+0100
TZOFFSETTO:+0200
TZNAME:CEST
DTSTART:20230326T010000
END:DAYLIGHT
BEGIN:STANDARD
TZOFFSETFROM:+0200
TZOFFSETTO:+0100
TZNAME:CET
DTSTART:20231029T010000
END:STANDARD
BEGIN:DAYLIGHT
TZOFFSETFROM:+0100
TZOFFSETTO:+0200
TZNAME:CEST
DTSTART:20240331T010000
END:DAYLIGHT
BEGIN:STANDARD
TZOFFSETFROM:+0200
TZOFFSETTO:+0100
TZNAME:CET
DTSTART:20241027T010000
END:STANDARD
END:VTIMEZONE
BEGIN:VEVENT
DTSTART;TZID=Europe/Stockholm:20230913T190000
DTEND;TZID=Europe/Stockholm:20230913T210000
DTSTAMP:20260420T223230
CREATED:20230820T131238Z
LAST-MODIFIED:20230910T032138Z
UID:944-1694631600-1694638800@lund.vansterpartiet.se
SUMMARY:Onsdagsdiskussion: Förädlande Underhåll
DESCRIPTION:Välkommen till en diskussion om ”Förädlande Underhåll” – ett koncept lanserat av Nita Lorimer runt 1985. Den här tanken handlar om att vårda och underhålla våra befintliga byggnader så att vi undviker kostsamma och omfattande renoveringar. Det är inte bara ekonomiskt fördelaktigt utan också en hållbarhetsstrategi som bevarar vårt arkitektoniska arv och minskar vår miljöpåverkan. \n”The most sustainable building is the one that is already built.” Detta citat av Carl Elefante\, tidigare president för The American Institute of Architects\, har blivit en central idé inom hållbar arkitektur. Istället för att alltid jaga nya konstruktioner\, försöker vi fokusera på att vårda och optimera de befintliga byggnaderna i våra städer. \nProgram: \n\nPresentation av Nita Lorimer\nÖppen diskussion\n\nVarje onsdag mellan kl 19-21 bjuder Vänsterpartiet Lund in till diskussionsmöte på Lilla caféet\, Lilla tvärgatan 2. Vi träffas och diskuterar politik\, ofta med en inbjuden gäst som ger en presentation av ett visst tema. \nVill du leda ett samtal eller en diskussion? Hör av dig till oss! styrelsen@lundavanstern.se
URL:https://lund.vansterpartiet.se/event/onsdagsdiskussion-13/
LOCATION:Lilla caféet\, Lilla Tvärgatan 2\, Lund\, 22353\, Sverige
CATEGORIES:onsdagsdiskussion,Onsdagsmöte
ATTACH;FMTTYPE=image/jpeg:https://lund.vansterpartiet.se/files/2023/08/An-old-office-building-that-is-being-repurposed-as-an-apartment-building-with-lots-of-people-running.jpeg
ORGANIZER;CN="V%C3%A4nsterpartiet Lund":MAILTO:info@lundavanstern.se
END:VEVENT
END:VCALENDAR