BEGIN:VCALENDAR
VERSION:2.0
PRODID:-//Vänsterpartiet Lund - ECPv6.15.17.1//NONSGML v1.0//EN
CALSCALE:GREGORIAN
METHOD:PUBLISH
X-WR-CALNAME:Vänsterpartiet Lund
X-ORIGINAL-URL:https://lund.vansterpartiet.se
X-WR-CALDESC:Händelser för Vänsterpartiet Lund
REFRESH-INTERVAL;VALUE=DURATION:PT1H
X-Robots-Tag:noindex
X-PUBLISHED-TTL:PT1H
BEGIN:VTIMEZONE
TZID:Europe/Stockholm
BEGIN:DAYLIGHT
TZOFFSETFROM:+0100
TZOFFSETTO:+0200
TZNAME:CEST
DTSTART:20240331T010000
END:DAYLIGHT
BEGIN:STANDARD
TZOFFSETFROM:+0200
TZOFFSETTO:+0100
TZNAME:CET
DTSTART:20241027T010000
END:STANDARD
BEGIN:DAYLIGHT
TZOFFSETFROM:+0100
TZOFFSETTO:+0200
TZNAME:CEST
DTSTART:20250330T010000
END:DAYLIGHT
BEGIN:STANDARD
TZOFFSETFROM:+0200
TZOFFSETTO:+0100
TZNAME:CET
DTSTART:20251026T010000
END:STANDARD
BEGIN:DAYLIGHT
TZOFFSETFROM:+0100
TZOFFSETTO:+0200
TZNAME:CEST
DTSTART:20260329T010000
END:DAYLIGHT
BEGIN:STANDARD
TZOFFSETFROM:+0200
TZOFFSETTO:+0100
TZNAME:CET
DTSTART:20261025T010000
END:STANDARD
END:VTIMEZONE
BEGIN:VEVENT
DTSTART;TZID=Europe/Stockholm:20250129T190000
DTEND;TZID=Europe/Stockholm:20250129T210000
DTSTAMP:20260419T214136
CREATED:20241218T192435Z
LAST-MODIFIED:20250128T103240Z
UID:1519-1738177200-1738184400@lund.vansterpartiet.se
SUMMARY:Onsdagsdiskussion
DESCRIPTION:Tema: Kriminalitet och brottsförebyggande arbete i Lunds kommun \nVi börjar med att lyssna till Joakim Nyberg kommunpolis i Lund\, Håkan Nilsson säkerhetschef i Lund samt Karin Säfström från socialförvaltningen. Vi får veta mer om kommunens brottsförebyggande råd\, gällande lag\, statistik över brott i Lund\, åtgärder för att skapa trygghet i kommunen\, samarbete mellan polis och kommun. \nI diskussionen fokuserar vi på arbetet mot brottslighet bland barn och unga\, missbruk\, brott i nära relationer och mot äldre. \nVarje onsdag mellan kl 19-21 bjuder Vänsterpartiet Lund in till diskussionsmöte i vår partilokal\, Södra station\, Tullgatan 14B. Vi träffas och diskuterar politik\, ofta med en inbjuden gäst som ger en presentation av ett visst tema. Vill du få inbjudan till onsdagsdiskussionerna till din mejl? Skriv till oss på info@lundavanstern.se så ordnar vi det!
URL:https://lund.vansterpartiet.se/event/onsdagsdiskussion-52/
LOCATION:Partilokalen\, Södra station\, Tullgatan 14B\, Lund\, 22354\, Sverige
CATEGORIES:onsdagsdiskussion,Onsdagsmöte
ATTACH;FMTTYPE=image/jpeg:https://lund.vansterpartiet.se/files/2024/12/Folkvimmel.jpg
ORGANIZER;CN="V%C3%A4nsterpartiet Lund":MAILTO:info@lundavanstern.se
END:VEVENT
END:VCALENDAR