BEGIN:VCALENDAR
VERSION:2.0
PRODID:-//Vänsterpartiet Lund - ECPv6.15.17.1//NONSGML v1.0//EN
CALSCALE:GREGORIAN
METHOD:PUBLISH
X-ORIGINAL-URL:https://lund.vansterpartiet.se
X-WR-CALDESC:Händelser för Vänsterpartiet Lund
REFRESH-INTERVAL;VALUE=DURATION:PT1H
X-Robots-Tag:noindex
X-PUBLISHED-TTL:PT1H
BEGIN:VTIMEZONE
TZID:Europe/Stockholm
BEGIN:DAYLIGHT
TZOFFSETFROM:+0100
TZOFFSETTO:+0200
TZNAME:CEST
DTSTART:20240331T010000
END:DAYLIGHT
BEGIN:STANDARD
TZOFFSETFROM:+0200
TZOFFSETTO:+0100
TZNAME:CET
DTSTART:20241027T010000
END:STANDARD
BEGIN:DAYLIGHT
TZOFFSETFROM:+0100
TZOFFSETTO:+0200
TZNAME:CEST
DTSTART:20250330T010000
END:DAYLIGHT
BEGIN:STANDARD
TZOFFSETFROM:+0200
TZOFFSETTO:+0100
TZNAME:CET
DTSTART:20251026T010000
END:STANDARD
BEGIN:DAYLIGHT
TZOFFSETFROM:+0100
TZOFFSETTO:+0200
TZNAME:CEST
DTSTART:20260329T010000
END:DAYLIGHT
BEGIN:STANDARD
TZOFFSETFROM:+0200
TZOFFSETTO:+0100
TZNAME:CET
DTSTART:20261025T010000
END:STANDARD
END:VTIMEZONE
BEGIN:VEVENT
DTSTART;TZID=Europe/Stockholm:20250305T190000
DTEND;TZID=Europe/Stockholm:20250305T210000
DTSTAMP:20260419T184355
CREATED:20250128T103518Z
LAST-MODIFIED:20250129T121519Z
UID:1582-1741201200-1741208400@lund.vansterpartiet.se
SUMMARY:Onsdagsdiskussion
DESCRIPTION:Gäst: Lisa Claesson\, ledamot i partistyrelsen och dess verkställande utskott. Lisa inleder på temat ”Marx relevans för Vänsterpartiet idag”. \nVarje onsdag mellan kl 19-21 bjuder Vänsterpartiet Lund in till diskussionsmöte i vår partilokal\, Södra station\, Tullgatan 14B. Vi träffas och diskuterar politik\, ofta med en inbjuden gäst som ger en presentation av ett visst tema. \nVill du få inbjudan till onsdagsdiskussionerna till din mejl? Skriv till oss på info@lundavanstern.se så ordnar vi det!
URL:https://lund.vansterpartiet.se/event/onsdagsdiskussion-58/
LOCATION:Partilokalen\, Södra station\, Tullgatan 14B\, Lund\, 22354\, Sverige
CATEGORIES:onsdagsdiskussion,Onsdagsmöte
ORGANIZER;CN="V%C3%A4nsterpartiet Lund":MAILTO:info@lundavanstern.se
END:VEVENT
BEGIN:VEVENT
DTSTART;TZID=Europe/Stockholm:20250312T190000
DTEND;TZID=Europe/Stockholm:20250312T210000
DTSTAMP:20260419T184355
CREATED:20250128T103559Z
LAST-MODIFIED:20250307T143034Z
UID:1584-1741806000-1741813200@lund.vansterpartiet.se
SUMMARY:Onsdagsdiskussion
DESCRIPTION:Gäst: Svenska Freds- och skiljedomsföreningen. \nVarje onsdag mellan kl 19-21 bjuder Vänsterpartiet Lund in till diskussionsmöte i vår partilokal\, Södra station\, Tullgatan 14B. Vi träffas och diskuterar politik\, ofta med en inbjuden gäst som ger en presentation av ett visst tema. \nVill du få inbjudan till onsdagsdiskussionerna till din mejl? Skriv till oss på info@lundavanstern.se så ordnar vi det!
URL:https://lund.vansterpartiet.se/event/onsdagsdiskussion-59/
LOCATION:Partilokalen\, Södra station\, Tullgatan 14B\, Lund\, 22354\, Sverige
CATEGORIES:onsdagsdiskussion,Onsdagsmöte
ORGANIZER;CN="V%C3%A4nsterpartiet Lund":MAILTO:info@lundavanstern.se
END:VEVENT
BEGIN:VEVENT
DTSTART;TZID=Europe/Stockholm:20250319T190000
DTEND;TZID=Europe/Stockholm:20250319T210000
DTSTAMP:20260419T184355
CREATED:20250129T121655Z
LAST-MODIFIED:20250310T125237Z
UID:1590-1742410800-1742418000@lund.vansterpartiet.se
SUMMARY:Onsdagsdiskussion
DESCRIPTION:Veckans onsdagsdiskussion handlar om kollektivtrafik. Inleder gör vår gäst Jan Persson\, forskningsledare vid K2 Nationellt kunskapscentrum för kollektivtrafik. Temat är ”efterfrågestyrd kollektivtrafik – möjligheter eller problem?”. \nVarje onsdag mellan kl 19-21 bjuder Vänsterpartiet Lund in till diskussionsmöte i vår partilokal\, Södra station\, Tullgatan 14B. Vi träffas och diskuterar politik\, ofta med en inbjuden gäst som ger en presentation av ett visst tema. \nVill du få inbjudan till onsdagsdiskussionerna till din mejl? Skriv till oss på info@lundavanstern.se så ordnar vi det!
URL:https://lund.vansterpartiet.se/event/onsdagsdiskussion-60/
LOCATION:Partilokalen\, Södra station\, Tullgatan 14B\, Lund\, 22354\, Sverige
CATEGORIES:onsdagsdiskussion,Onsdagsmöte
ORGANIZER;CN="V%C3%A4nsterpartiet Lund":MAILTO:info@lundavanstern.se
END:VEVENT
BEGIN:VEVENT
DTSTART;TZID=Europe/Stockholm:20250326T190000
DTEND;TZID=Europe/Stockholm:20250326T210000
DTSTAMP:20260419T184355
CREATED:20250129T121742Z
LAST-MODIFIED:20250324T144612Z
UID:1592-1743015600-1743022800@lund.vansterpartiet.se
SUMMARY:Onsdagsdiskussion: Ideologiskolan I
DESCRIPTION:Introduktion till Ideologiskolan – i samarbete med ABF. \nVi kommer tre onsdagsmöten att gå igenom och diskutera utifrån partiets helt nya studiematerial – ideologiskolan. Ideologiskolan beskriver grunderna för Vänsterpartiets politik. Den utgår från Vänsterpartiets nya partiprogram som antogs på partikongressen förra året.\n\nOnsdag 26 mars tar vi upp ideologiskolans del 1 Att vara vänster. Vi kommer bl a att tala om konflikten mellan arbete och kapital\, arbetets dubbla roll under kapitalismen och betydelsen av organisering och sammanhållning för att uppnå politisk förändring.\nVarje onsdag mellan kl 19-21 bjuder Vänsterpartiet Lund in till diskussionsmöte i vår partilokal\, Södra station\, Tullgatan 14B. Vi träffas och diskuterar politik\, ofta med en inbjuden gäst som ger en presentation av ett visst tema. \nVill du få inbjudan till onsdagsdiskussionerna till din mejl? Skriv till oss på info@lundavanstern.se så ordnar vi det!
URL:https://lund.vansterpartiet.se/event/onsdagsdiskussion-61/
LOCATION:Partilokalen\, Södra station\, Tullgatan 14B\, Lund\, 22354\, Sverige
CATEGORIES:onsdagsdiskussion,Onsdagsmöte,Utbildning
ATTACH;FMTTYPE=image/jpeg:https://lund.vansterpartiet.se/files/2025/01/Skrivbord.jpg
ORGANIZER;CN="V%C3%A4nsterpartiet Lund":MAILTO:info@lundavanstern.se
END:VEVENT
END:VCALENDAR