BEGIN:VCALENDAR
VERSION:2.0
PRODID:-//Vänsterpartiet Lund - ECPv6.15.17.1//NONSGML v1.0//EN
CALSCALE:GREGORIAN
METHOD:PUBLISH
X-WR-CALNAME:Vänsterpartiet Lund
X-ORIGINAL-URL:https://lund.vansterpartiet.se
X-WR-CALDESC:Händelser för Vänsterpartiet Lund
REFRESH-INTERVAL;VALUE=DURATION:PT1H
X-Robots-Tag:noindex
X-PUBLISHED-TTL:PT1H
BEGIN:VTIMEZONE
TZID:Europe/Stockholm
BEGIN:DAYLIGHT
TZOFFSETFROM:+0100
TZOFFSETTO:+0200
TZNAME:CEST
DTSTART:20240331T010000
END:DAYLIGHT
BEGIN:STANDARD
TZOFFSETFROM:+0200
TZOFFSETTO:+0100
TZNAME:CET
DTSTART:20241027T010000
END:STANDARD
BEGIN:DAYLIGHT
TZOFFSETFROM:+0100
TZOFFSETTO:+0200
TZNAME:CEST
DTSTART:20250330T010000
END:DAYLIGHT
BEGIN:STANDARD
TZOFFSETFROM:+0200
TZOFFSETTO:+0100
TZNAME:CET
DTSTART:20251026T010000
END:STANDARD
BEGIN:DAYLIGHT
TZOFFSETFROM:+0100
TZOFFSETTO:+0200
TZNAME:CEST
DTSTART:20260329T010000
END:DAYLIGHT
BEGIN:STANDARD
TZOFFSETFROM:+0200
TZOFFSETTO:+0100
TZNAME:CET
DTSTART:20261025T010000
END:STANDARD
END:VTIMEZONE
BEGIN:VEVENT
DTSTART;TZID=Europe/Stockholm:20250507T190000
DTEND;TZID=Europe/Stockholm:20250507T210000
DTSTAMP:20260419T153622
CREATED:20250325T080318Z
LAST-MODIFIED:20250325T080318Z
UID:1706-1746644400-1746651600@lund.vansterpartiet.se
SUMMARY:Onsdagsdiskussion: Ideologiskolan III
DESCRIPTION:Välkomna till ideologiskolans del 3 Att bygga ett bättre samhälle – våra svar. \nVi talar bl a om betydelsen av strategiska reformer\, om att äga mer tillsammans och om betydelsen av sammanhållning och breda rörelser för att uppnå våra mål. Ideologiskolan genomförs i samarbete med ABF. \n 
URL:https://lund.vansterpartiet.se/event/onsdagsdiskussion-ideologiskolan-iii/
LOCATION:Partilokalen\, Södra station\, Tullgatan 14B\, Lund\, 22354\, Sverige
CATEGORIES:onsdagsdiskussion,Onsdagsmöte,Utbildning
ATTACH;FMTTYPE=image/jpeg:https://lund.vansterpartiet.se/files/2025/01/Skrivbord.jpg
ORGANIZER;CN="V%C3%A4nsterpartiet Lund":MAILTO:info@lundavanstern.se
END:VEVENT
BEGIN:VEVENT
DTSTART;TZID=Europe/Stockholm:20250514T190000
DTEND;TZID=Europe/Stockholm:20250514T210000
DTSTAMP:20260419T153622
CREATED:20250407T090224Z
LAST-MODIFIED:20250407T090921Z
UID:1726-1747249200-1747256400@lund.vansterpartiet.se
SUMMARY:Onsdagsdiskussion: spionskandaler\, visselblåsare och demokrati
DESCRIPTION:Veckans gäst är Alexandra Franzén\, universitetslektor i kriminologi verksam vid vid Sociologiska institutionen\, Lunds universitet. Alexandra presenterar sin nyutgivna bok Sanningen ska göra er fria som är en analys av några av historiens mest spektakulära spionskandaler. Kan demokratier egentligen kontrollera sina säkerhets- och underrättelsetjänster? Hur vet vi i vems intresse våra beslutsfattare agerar? Och vad händer med demokratin när allt står på spel? \nLäs mer om boken här.
URL:https://lund.vansterpartiet.se/event/onsdagsdiskussion-spionskandaler-visselblasare-och-demokrati/
LOCATION:Partilokalen\, Södra station\, Tullgatan 14B\, Lund\, 22354\, Sverige
CATEGORIES:onsdagsdiskussion,Onsdagsmöte
ATTACH;FMTTYPE=image/jpeg:https://lund.vansterpartiet.se/files/2025/04/Skugga-MEDIUM.jpg
ORGANIZER;CN="V%C3%A4nsterpartiet Lund":MAILTO:info@lundavanstern.se
END:VEVENT
BEGIN:VEVENT
DTSTART;TZID=Europe/Stockholm:20250521T190000
DTEND;TZID=Europe/Stockholm:20250521T210000
DTSTAMP:20260419T153622
CREATED:20250325T080934Z
LAST-MODIFIED:20250407T092153Z
UID:1712-1747854000-1747861200@lund.vansterpartiet.se
SUMMARY:Onsdagsdiskussion: kollektivtrafiken i Lund
DESCRIPTION:Veckans gäst Mats Ameen\, senior trafikkonsult på Trivector och tidigare på Skånetrafiken\, inleder på temat ”Utveckling av kollektivtrafiken i Lund. Vilka är de hållbara alternativen?”
URL:https://lund.vansterpartiet.se/event/onsdagsdiskussion-63/
LOCATION:Partilokalen\, Södra station\, Tullgatan 14B\, Lund\, 22354\, Sverige
CATEGORIES:onsdagsdiskussion,Onsdagsmöte
ATTACH;FMTTYPE=image/jpeg:https://lund.vansterpartiet.se/files/2024/10/ungdom-vid-tag.jpg
ORGANIZER;CN="V%C3%A4nsterpartiet Lund":MAILTO:info@lundavanstern.se
END:VEVENT
BEGIN:VEVENT
DTSTART;TZID=Europe/Stockholm:20250528T190000
DTEND;TZID=Europe/Stockholm:20250528T210000
DTSTAMP:20260419T153622
CREATED:20250522T091141Z
LAST-MODIFIED:20250522T091141Z
UID:1763-1748458800-1748466000@lund.vansterpartiet.se
SUMMARY:Onsdagsdiskussion: Vänsterns syn på arbete
DESCRIPTION:Temat för nästa onsdagsdiskussion är vänsterns syn på arbete. I diskussionen utgår vi från partiprogrammets skrivningar om arbete\, Marx syn på arbetet och den s k arbetskritiken som den företrätts av Paul Lafargue och Roland Paulsen. \nVarmt välkommen!
URL:https://lund.vansterpartiet.se/event/onsdagsdiskussion-vansterns-syn-pa-arbete/
LOCATION:Partilokalen\, Södra station\, Tullgatan 14B\, Lund\, 22354\, Sverige
CATEGORIES:onsdagsdiskussion,Onsdagsmöte,Politiskt diskussionsmöte
ATTACH;FMTTYPE=image/jpeg:https://lund.vansterpartiet.se/files/2024/12/Snickeri.jpg
ORGANIZER;CN="V%C3%A4nsterpartiet Lund":MAILTO:info@lundavanstern.se
END:VEVENT
END:VCALENDAR