BEGIN:VCALENDAR
VERSION:2.0
PRODID:-//Vänsterpartiet Lund - ECPv6.15.17.1//NONSGML v1.0//EN
CALSCALE:GREGORIAN
METHOD:PUBLISH
X-WR-CALNAME:Vänsterpartiet Lund
X-ORIGINAL-URL:https://lund.vansterpartiet.se
X-WR-CALDESC:Händelser för Vänsterpartiet Lund
REFRESH-INTERVAL;VALUE=DURATION:PT1H
X-Robots-Tag:noindex
X-PUBLISHED-TTL:PT1H
BEGIN:VTIMEZONE
TZID:Europe/Stockholm
BEGIN:DAYLIGHT
TZOFFSETFROM:+0100
TZOFFSETTO:+0200
TZNAME:CEST
DTSTART:20220327T010000
END:DAYLIGHT
BEGIN:STANDARD
TZOFFSETFROM:+0200
TZOFFSETTO:+0100
TZNAME:CET
DTSTART:20221030T010000
END:STANDARD
BEGIN:DAYLIGHT
TZOFFSETFROM:+0100
TZOFFSETTO:+0200
TZNAME:CEST
DTSTART:20230326T010000
END:DAYLIGHT
BEGIN:STANDARD
TZOFFSETFROM:+0200
TZOFFSETTO:+0100
TZNAME:CET
DTSTART:20231029T010000
END:STANDARD
BEGIN:DAYLIGHT
TZOFFSETFROM:+0100
TZOFFSETTO:+0200
TZNAME:CEST
DTSTART:20240331T010000
END:DAYLIGHT
BEGIN:STANDARD
TZOFFSETFROM:+0200
TZOFFSETTO:+0100
TZNAME:CET
DTSTART:20241027T010000
END:STANDARD
END:VTIMEZONE
BEGIN:VEVENT
DTSTART;TZID=Europe/Stockholm:20231025T190000
DTEND;TZID=Europe/Stockholm:20231025T210000
DTSTAMP:20260420T223402
CREATED:20230820T131837Z
LAST-MODIFIED:20231009T083938Z
UID:956-1698260400-1698267600@lund.vansterpartiet.se
SUMMARY:Onsdagsdiskussion: (Kon)federalism som regeringssystem - pro och contra
DESCRIPTION:Federalism används som ett regeringssystem av vissa befintliga länder för att styra över områden med olika kulturer och intressen. \nPå senare tid har några radikaler argumenterat för ett system av demokratisk konfederalism för att flytta beslutsprocesser närmare de personer som berörs av beslutet. \nI en värld med regionala självständighetsrörelser och centralistiska regeringar som slår tillbaka\, kommer vi att diskutera (kon)federalismens för och emot ur ett socialistiskt perspektiv. \nVarje onsdag mellan kl 19-21 bjuder Vänsterpartiet Lund in till diskussionsmöte på Lilla caféet\, Lilla tvärgatan 2. Vi träffas och diskuterar politik\, ofta med en inbjuden gäst som ger en presentation av ett visst tema. \nVill du leda ett samtal eller en diskussion? Hör av dig till oss! styrelsen@lundavanstern.se
URL:https://lund.vansterpartiet.se/event/onsdagsdiskussion-19/
LOCATION:Lilla caféet\, Lilla Tvärgatan 2\, Lund\, 22353\, Sverige
CATEGORIES:onsdagsdiskussion,Onsdagsmöte
ATTACH;FMTTYPE=image/jpeg:https://lund.vansterpartiet.se/files/2023/08/fbf4a65d-d110-4a80-8c11-087e8e4f65ec.jpeg
ORGANIZER;CN="V%C3%A4nsterpartiet Lund":MAILTO:info@lundavanstern.se
END:VEVENT
END:VCALENDAR