BEGIN:VCALENDAR
VERSION:2.0
PRODID:-//Vänsterpartiet Lund - ECPv6.15.17.1//NONSGML v1.0//EN
CALSCALE:GREGORIAN
METHOD:PUBLISH
X-ORIGINAL-URL:https://lund.vansterpartiet.se
X-WR-CALDESC:Händelser för Vänsterpartiet Lund
REFRESH-INTERVAL;VALUE=DURATION:PT1H
X-Robots-Tag:noindex
X-PUBLISHED-TTL:PT1H
BEGIN:VTIMEZONE
TZID:Europe/Stockholm
BEGIN:DAYLIGHT
TZOFFSETFROM:+0100
TZOFFSETTO:+0200
TZNAME:CEST
DTSTART:20220327T010000
END:DAYLIGHT
BEGIN:STANDARD
TZOFFSETFROM:+0200
TZOFFSETTO:+0100
TZNAME:CET
DTSTART:20221030T010000
END:STANDARD
BEGIN:DAYLIGHT
TZOFFSETFROM:+0100
TZOFFSETTO:+0200
TZNAME:CEST
DTSTART:20230326T010000
END:DAYLIGHT
BEGIN:STANDARD
TZOFFSETFROM:+0200
TZOFFSETTO:+0100
TZNAME:CET
DTSTART:20231029T010000
END:STANDARD
BEGIN:DAYLIGHT
TZOFFSETFROM:+0100
TZOFFSETTO:+0200
TZNAME:CEST
DTSTART:20240331T010000
END:DAYLIGHT
BEGIN:STANDARD
TZOFFSETFROM:+0200
TZOFFSETTO:+0100
TZNAME:CET
DTSTART:20241027T010000
END:STANDARD
END:VTIMEZONE
BEGIN:VEVENT
DTSTART;TZID=Europe/Stockholm:20231206T190000
DTEND;TZID=Europe/Stockholm:20231206T210000
DTSTAMP:20260420T193030
CREATED:20230820T132317Z
LAST-MODIFIED:20230906T045753Z
UID:966-1701889200-1701896400@lund.vansterpartiet.se
SUMMARY:Onsdagsdiskussion
DESCRIPTION:Varje onsdag mellan kl 19-21 bjuder Vänsterpartiet Lund in till diskussionsmöte på Lilla caféet\, Lilla tvärgatan 2. Vi träffas och diskuterar politik\, ofta med en inbjuden gäst som ger en presentation av ett visst tema. \nVill du leda ett samtal eller en diskussion? Hör av dig till oss! styrelsen@lundavanstern.se
URL:https://lund.vansterpartiet.se/event/onsdagsdiskussion-24/
LOCATION:Lilla caféet\, Lilla Tvärgatan 2\, Lund\, 22353\, Sverige
CATEGORIES:onsdagsdiskussion,Onsdagsmöte
END:VEVENT
END:VCALENDAR