BEGIN:VCALENDAR
VERSION:2.0
PRODID:-//Vänsterpartiet Lund - ECPv6.15.17.1//NONSGML v1.0//EN
CALSCALE:GREGORIAN
METHOD:PUBLISH
X-ORIGINAL-URL:https://lund.vansterpartiet.se
X-WR-CALDESC:Händelser för Vänsterpartiet Lund
REFRESH-INTERVAL;VALUE=DURATION:PT1H
X-Robots-Tag:noindex
X-PUBLISHED-TTL:PT1H
BEGIN:VTIMEZONE
TZID:Europe/Stockholm
BEGIN:DAYLIGHT
TZOFFSETFROM:+0100
TZOFFSETTO:+0200
TZNAME:CEST
DTSTART:20220327T010000
END:DAYLIGHT
BEGIN:STANDARD
TZOFFSETFROM:+0200
TZOFFSETTO:+0100
TZNAME:CET
DTSTART:20221030T010000
END:STANDARD
BEGIN:DAYLIGHT
TZOFFSETFROM:+0100
TZOFFSETTO:+0200
TZNAME:CEST
DTSTART:20230326T010000
END:DAYLIGHT
BEGIN:STANDARD
TZOFFSETFROM:+0200
TZOFFSETTO:+0100
TZNAME:CET
DTSTART:20231029T010000
END:STANDARD
BEGIN:DAYLIGHT
TZOFFSETFROM:+0100
TZOFFSETTO:+0200
TZNAME:CEST
DTSTART:20240331T010000
END:DAYLIGHT
BEGIN:STANDARD
TZOFFSETFROM:+0200
TZOFFSETTO:+0100
TZNAME:CET
DTSTART:20241027T010000
END:STANDARD
END:VTIMEZONE
BEGIN:VEVENT
DTSTART;TZID=Europe/Stockholm:20230326T090000
DTEND;TZID=Europe/Stockholm:20230326T120000
DTSTAMP:20260419T201543
CREATED:20230321T141906Z
LAST-MODIFIED:20230321T141906Z
UID:836-1679821200-1679832000@lund.vansterpartiet.se
SUMMARY:Utbildning: Välkommen till Vänsterpartiet
DESCRIPTION:Söndagen den 26 mars kl 9:00-12:00 håller Vänsterpartiet Lund utbildning för nya medlemmar. Utbildningen heter ”Välkommen till Vänsterpartiet” och ger en introduktion till vad det innebär att vara medlem i Vänsterpartiet. Du får träffa andra nya medlemmar och lära dig mer om vänsterpolitik och om hur du kan engagera dig. Kanske är du nybliven medlem och vill veta mer? Eller så har du varit medlem ett tag redan men känner att du vill bli ännu mer insatt i vår politik och vårt arbete? Oavsett vilket så är du varmt välkommen att anmäla dig! \nUtbildningen sker i ”Medeltidssalen” i Folkets hus\, Kiliansgatan 13\, Lund (samma entré som Lunds stadsteater). Vi bjuder på fika! \nAnmäl dig via denna länk.
URL:https://lund.vansterpartiet.se/event/utbildning-valkommen-till-vansterpartiet/
CATEGORIES:Utbildning
ORGANIZER;CN="V%C3%A4nsterpartiet Lund":MAILTO:info@lundavanstern.se
END:VEVENT
END:VCALENDAR